BEGIN:VCALENDAR
VERSION:2.0
PRODID:-//Metro Farms - ECPv6.6.0//NONSGML v1.0//EN
CALSCALE:GREGORIAN
METHOD:PUBLISH
X-WR-CALNAME:Metro Farms
X-ORIGINAL-URL:https://metro-farms.com
X-WR-CALDESC:Events for Metro Farms
REFRESH-INTERVAL;VALUE=DURATION:PT1H
X-Robots-Tag:noindex
X-PUBLISHED-TTL:PT1H
BEGIN:VTIMEZONE
TZID:UTC
BEGIN:STANDARD
TZOFFSETFROM:+0000
TZOFFSETTO:+0000
TZNAME:UTC
DTSTART:20210101T000000
END:STANDARD
END:VTIMEZONE
BEGIN:VEVENT
DTSTART;TZID=UTC:20210814T170000
DTEND;TZID=UTC:20210814T210000
DTSTAMP:20260422T180724
CREATED:20210810T231924Z
LAST-MODIFIED:20210810T231924Z
UID:2494-1628960400-1628974800@metro-farms.com
SUMMARY:Blues On The Farm
DESCRIPTION:On August 14th & 28th\, Urban Transformation presents: Blues On The Farm: Award Winning\, Hall of fame band\, “Vance Kelly and The backstreet blues band”. Live music\, Drinks and Food! \n  \n  \n 
URL:https://metro-farms.com/event/blues-on-the-farm/
LOCATION:Venue1\, 4250 W Chicago Ave\, Chicago\, IL\, 60651\, United States
END:VEVENT
BEGIN:VEVENT
DTSTART;TZID=UTC:20220214T110000
DTEND;TZID=UTC:20220220T170000
DTSTAMP:20260422T180725
CREATED:20210810T232251Z
LAST-MODIFIED:20220217T054839Z
UID:2499-1644836400-1645376400@metro-farms.com
SUMMARY:Bingo On The Farm!
DESCRIPTION:Urban Transformation presents: Bingo On The Farm. August 19th @ Metro Farms. Come to win Prizes\, Raffles & More! \n 
URL:https://metro-farms.com/event/bingo-on-the-farm/
END:VEVENT
BEGIN:VEVENT
DTSTART;TZID=UTC:20220423T080000
DTEND;TZID=UTC:20220423T170000
DTSTAMP:20260422T180725
CREATED:20220424T000502Z
LAST-MODIFIED:20220424T000502Z
UID:2594-1650700800-1650733200@metro-farms.com
SUMMARY:Mother's Day Music Brunch
DESCRIPTION:Blues\, Smooth Jazz Gospel Featuring Grammy Award Winning and Nominated Artist
URL:https://metro-farms.com/event/mothers-day-music-brunch/
ATTACH;FMTTYPE=image/png:https://metro-farms.com/wp-content/uploads/2022/04/Screen-Shot-2022-04-23-at-2.02.02-PM.png
END:VEVENT
END:VCALENDAR